BEGIN:VCALENDAR
VERSION:2.0
PRODID:-//Pipe Bands Western Australia - ECPv6.15.20//NONSGML v1.0//EN
CALSCALE:GREGORIAN
METHOD:PUBLISH
X-ORIGINAL-URL:https://pipebandsaustralia.com.au/westernaustralia
X-WR-CALDESC:Events for Pipe Bands Western Australia
REFRESH-INTERVAL;VALUE=DURATION:PT1H
X-Robots-Tag:noindex
X-PUBLISHED-TTL:PT1H
BEGIN:VTIMEZONE
TZID:Australia/Perth
BEGIN:STANDARD
TZOFFSETFROM:+0800
TZOFFSETTO:+0800
TZNAME:AWST
DTSTART:20240101T000000
END:STANDARD
END:VTIMEZONE
BEGIN:VEVENT
DTSTART;VALUE=DATE:20251005
DTEND;VALUE=DATE:20251006
DTSTAMP:20260419T210249
CREATED:20250524T124053Z
LAST-MODIFIED:20250524T124053Z
UID:10000015-1759622400-1759708799@pipebandsaustralia.com.au
SUMMARY:State Pipe Band Championships
DESCRIPTION:Pipe Bands WA Annual Pipe Band Championships presented by the City of Armadale. \nFeaturing some of WA’s award winning Pipe Bands\, the Pipe Band competitions will take place behind the Champion Lakes Regatta Centre building (on the north-west of the island). \nCome the end of the day\, the Pipe Bands display a powerful tribute to its Scottish ties by presenting the Massed Pipe Band procession.
URL:https://pipebandsaustralia.com.au/westernaustralia/event/state-pipe-band-championships/
LOCATION:Minawarra Park\, Orchard Avenue & Armadale Road\, Armadale\, Western Australia\, 6112\, Australia
ATTACH;FMTTYPE=image/jpeg:https://pipebandsaustralia.com.au/westernaustralia/wp-content/uploads/sites/17/2025/05/061019-353.jpg
ORGANIZER;CN="Pipe Bands Western Australia":MAILTO:wa@pipebandsaustralia.com.au
END:VEVENT
END:VCALENDAR