BEGIN:VCALENDAR
VERSION:2.0
PRODID:-//Pipe Bands Victoria - ECPv6.15.20//NONSGML v1.0//EN
CALSCALE:GREGORIAN
METHOD:PUBLISH
X-ORIGINAL-URL:https://pipebandsaustralia.com.au/victoria
X-WR-CALDESC:Events for Pipe Bands Victoria
REFRESH-INTERVAL;VALUE=DURATION:PT1H
X-Robots-Tag:noindex
X-PUBLISHED-TTL:PT1H
BEGIN:VTIMEZONE
TZID:Australia/Melbourne
BEGIN:STANDARD
TZOFFSETFROM:+1100
TZOFFSETTO:+1000
TZNAME:AEST
DTSTART:20240406T160000
END:STANDARD
BEGIN:DAYLIGHT
TZOFFSETFROM:+1000
TZOFFSETTO:+1100
TZNAME:AEDT
DTSTART:20241005T160000
END:DAYLIGHT
BEGIN:STANDARD
TZOFFSETFROM:+1100
TZOFFSETTO:+1000
TZNAME:AEST
DTSTART:20250405T160000
END:STANDARD
BEGIN:DAYLIGHT
TZOFFSETFROM:+1000
TZOFFSETTO:+1100
TZNAME:AEDT
DTSTART:20251004T160000
END:DAYLIGHT
BEGIN:STANDARD
TZOFFSETFROM:+1100
TZOFFSETTO:+1000
TZNAME:AEST
DTSTART:20260404T160000
END:STANDARD
BEGIN:DAYLIGHT
TZOFFSETFROM:+1000
TZOFFSETTO:+1100
TZNAME:AEDT
DTSTART:20261003T160000
END:DAYLIGHT
END:VTIMEZONE
BEGIN:VEVENT
DTSTART;TZID=Australia/Melbourne:20250323T083000
DTEND;TZID=Australia/Melbourne:20250323T170000
DTSTAMP:20260424T165521
CREATED:20250308T092610Z
LAST-MODIFIED:20250309T130440Z
UID:10000017-1742718600-1742749200@pipebandsaustralia.com.au
SUMMARY:Melbourne Highland Gathering and Celtic Festival
DESCRIPTION:Getting bigger and better every year\, Pipe Bands Victoria is thrilled to continue their collaboration with the Melbourne Highland Gathering and Celtic Festival. \n\nWhat: Melbourne Highland Gathering and Celtic Festival\nWhen: 23rd March 2025\nWhere: Eastfield Park\, Croydon\nPipe Band entries: More information to follow\n\nMore information available at: https://melbournehighlandgames.org.au/
URL:https://pipebandsaustralia.com.au/victoria/event/melbourne-highland-gathering-and-celtic-festival/
LOCATION:Eastfield Park\, 119 Eastfield Road\, Croydon\, Victoria\, 3136\, Australia
CATEGORIES:Victoria
ATTACH;FMTTYPE=image/png:https://pipebandsaustralia.com.au/victoria/wp-content/uploads/sites/13/2025/03/EHI1120397-8e5c42819973456887cc7401f17a21b9.png
ORGANIZER;CN="Pipe Bands Victoria":MAILTO:vic@pipebandsaustralia.com.au
END:VEVENT
BEGIN:VEVENT
DTSTART;TZID=Australia/Melbourne:20250329T080000
DTEND;TZID=Australia/Melbourne:20250329T170000
DTSTAMP:20260424T165521
CREATED:20250308T092348Z
LAST-MODIFIED:20250309T130417Z
UID:10000016-1743235200-1743267600@pipebandsaustralia.com.au
SUMMARY:Haileybury Pipe Band Contest
DESCRIPTION:Pipe Bands Victoria is delighted to continue their partnership with Haileybury\, one of Australia’s leading schools\, announcing the 2025 Pipe Band contest at Haileybury. What: Haileybury Pipe Band Contest When: 29th March 2025 Where: Haileybury\, Keysborough Pipe Band entries: More information to follow
URL:https://pipebandsaustralia.com.au/victoria/event/haileybury-pipe-band-contest/
LOCATION:Haileybury College\, 855 Springvale Road\, Keysborough\, Victoria\, 3173\, Australia
CATEGORIES:Victoria
ATTACH;FMTTYPE=image/jpeg:https://pipebandsaustralia.com.au/victoria/wp-content/uploads/sites/13/2023/11/ND3_0708-copy-Euan-Wallace-scaled-1.jpg
ORGANIZER;CN="Pipe Bands Victoria":MAILTO:vic@pipebandsaustralia.com.au
END:VEVENT
END:VCALENDAR