BEGIN:VCALENDAR
VERSION:2.0
PRODID:-//Pipe Bands Australia - ECPv6.15.20//NONSGML v1.0//EN
CALSCALE:GREGORIAN
METHOD:PUBLISH
X-ORIGINAL-URL:https://pipebandsaustralia.com.au
X-WR-CALDESC:Events for Pipe Bands Australia
REFRESH-INTERVAL;VALUE=DURATION:PT1H
X-Robots-Tag:noindex
X-PUBLISHED-TTL:PT1H
BEGIN:VTIMEZONE
TZID:Australia/Sydney
BEGIN:STANDARD
TZOFFSETFROM:+1100
TZOFFSETTO:+1000
TZNAME:AEST
DTSTART:20240406T160000
END:STANDARD
BEGIN:DAYLIGHT
TZOFFSETFROM:+1000
TZOFFSETTO:+1100
TZNAME:AEDT
DTSTART:20241005T160000
END:DAYLIGHT
BEGIN:STANDARD
TZOFFSETFROM:+1100
TZOFFSETTO:+1000
TZNAME:AEST
DTSTART:20250405T160000
END:STANDARD
BEGIN:DAYLIGHT
TZOFFSETFROM:+1000
TZOFFSETTO:+1100
TZNAME:AEDT
DTSTART:20251004T160000
END:DAYLIGHT
BEGIN:STANDARD
TZOFFSETFROM:+1100
TZOFFSETTO:+1000
TZNAME:AEST
DTSTART:20260404T160000
END:STANDARD
BEGIN:DAYLIGHT
TZOFFSETFROM:+1000
TZOFFSETTO:+1100
TZNAME:AEDT
DTSTART:20261003T160000
END:DAYLIGHT
END:VTIMEZONE
BEGIN:VEVENT
DTSTART;TZID=Australia/Sydney:20250419T080000
DTEND;TZID=Australia/Sydney:20250419T080000
DTSTAMP:20260422T203712
CREATED:20250412T042702Z
LAST-MODIFIED:20250412T043201Z
UID:10000022-1745049600-1745049600@pipebandsaustralia.com.au
SUMMARY:Maclean Highland Gathering
DESCRIPTION:This event is run by the Lower Clarence Scottish Association. The pipe band competition is overseen by Pipe Bands NSW. \nWe include it on our events listing as many South East Queensland bands attend the event each year.
URL:https://pipebandsaustralia.com.au/event/maclean-highland-gathering/
LOCATION:Maclean Showgrounds\, 12 Cameron Street\, Maclean\, New South Wales\, 2463\, Australia
CATEGORIES:Queensland
ATTACH;FMTTYPE=image/jpeg:https://pipebandsaustralia.com.au/wp-content/uploads/2025/04/Maclean-Highland-Gathering.jpg
ORGANIZER;CN="Maclean Highland Gathering":MAILTO:secretary@macleanhighlandgathering.com.au
END:VEVENT
END:VCALENDAR