BEGIN:VCALENDAR
VERSION:2.0
PRODID:-//Pipe Bands Australia - ECPv6.15.20//NONSGML v1.0//EN
CALSCALE:GREGORIAN
METHOD:PUBLISH
X-WR-CALNAME:Pipe Bands Australia
X-ORIGINAL-URL:https://pipebandsaustralia.com.au
X-WR-CALDESC:Events for Pipe Bands Australia
REFRESH-INTERVAL;VALUE=DURATION:PT1H
X-Robots-Tag:noindex
X-PUBLISHED-TTL:PT1H
BEGIN:VTIMEZONE
TZID:Australia/Sydney
BEGIN:STANDARD
TZOFFSETFROM:+1100
TZOFFSETTO:+1000
TZNAME:AEST
DTSTART:20240406T160000
END:STANDARD
BEGIN:DAYLIGHT
TZOFFSETFROM:+1000
TZOFFSETTO:+1100
TZNAME:AEDT
DTSTART:20241005T160000
END:DAYLIGHT
BEGIN:STANDARD
TZOFFSETFROM:+1100
TZOFFSETTO:+1000
TZNAME:AEST
DTSTART:20250405T160000
END:STANDARD
BEGIN:DAYLIGHT
TZOFFSETFROM:+1000
TZOFFSETTO:+1100
TZNAME:AEDT
DTSTART:20251004T160000
END:DAYLIGHT
BEGIN:STANDARD
TZOFFSETFROM:+1100
TZOFFSETTO:+1000
TZNAME:AEST
DTSTART:20260404T160000
END:STANDARD
BEGIN:DAYLIGHT
TZOFFSETFROM:+1000
TZOFFSETTO:+1100
TZNAME:AEDT
DTSTART:20261003T160000
END:DAYLIGHT
BEGIN:STANDARD
TZOFFSETFROM:+1100
TZOFFSETTO:+1000
TZNAME:AEST
DTSTART:20270403T160000
END:STANDARD
BEGIN:DAYLIGHT
TZOFFSETFROM:+1000
TZOFFSETTO:+1100
TZNAME:AEDT
DTSTART:20271002T160000
END:DAYLIGHT
END:VTIMEZONE
BEGIN:VEVENT
DTSTART;TZID=Australia/Sydney:20250921T080000
DTEND;TZID=Australia/Sydney:20250921T170000
DTSTAMP:20260424T195446
CREATED:20250414T092218Z
LAST-MODIFIED:20250414T092526Z
UID:10000075-1758441600-1758474000@pipebandsaustralia.com.au
SUMMARY:The Highlands Contest
DESCRIPTION:More information to follow.
URL:https://pipebandsaustralia.com.au/event/the-highlands-contest/
LOCATION:New South Wales
CATEGORIES:New South Wales
ATTACH;FMTTYPE=image/png:https://pipebandsaustralia.com.au/wp-content/uploads/2025/04/Asset-121.png
END:VEVENT
BEGIN:VEVENT
DTSTART;TZID=Australia/Sydney:20250925T193000
DTEND;TZID=Australia/Sydney:20250925T203000
DTSTAMP:20260424T195446
CREATED:20250414T091924Z
LAST-MODIFIED:20250414T092427Z
UID:10000072-1758828600-1758832200@pipebandsaustralia.com.au
SUMMARY:NSW Pipers Society Meeting
DESCRIPTION:The Society meets\, 4th Thursday of each month at the City of Blacktown Pipe Band Hall\, from 7.30
URL:https://pipebandsaustralia.com.au/event/nsw-pipers-society-meeting-3/
LOCATION:Blacktown City Pipe Band Hall\, Richmond Road\, Blacktown\, New South Wales\, 2148\, Australia
CATEGORIES:New South Wales
ATTACH;FMTTYPE=image/png:https://pipebandsaustralia.com.au/wp-content/uploads/2025/04/Pipers-Society.png
END:VEVENT
BEGIN:VEVENT
DTSTART;TZID=Australia/Sydney:20251001T190000
DTEND;TZID=Australia/Sydney:20251001T210000
DTSTAMP:20260424T195446
CREATED:20250414T092302Z
LAST-MODIFIED:20250414T092302Z
UID:10000069-1759345200-1759352400@pipebandsaustralia.com.au
SUMMARY:New South Wales - Branch Council Meeting
DESCRIPTION:To join the meeting please contact the Pipe Bands New South Wales Secretary on nsw@pipebandsaustralia.com.au.
URL:https://pipebandsaustralia.com.au/event/new-south-wales-branch-council-meeting-3/
LOCATION:New South Wales
CATEGORIES:New South Wales
ATTACH;FMTTYPE=image/png:https://pipebandsaustralia.com.au/wp-content/uploads/2025/04/Asset-120.png
ORGANIZER;CN="Pipe Bands New South Wales":MAILTO:nsw@pipebandsaustralia.com.au
END:VEVENT
BEGIN:VEVENT
DTSTART;VALUE=DATE:20251005
DTEND;VALUE=DATE:20251006
DTSTAMP:20260424T195446
CREATED:20250714T055102Z
LAST-MODIFIED:20250714T055303Z
UID:10000110-1759622400-1759708799@pipebandsaustralia.com.au
SUMMARY:Australian Juvenile Pipe Band Championships
DESCRIPTION:The Australian Juvenile Pipe Band Championships return in 2025 in harmony with the Austraian Solo Championships to be held at the Scots School Albury\, New South Wales over three spectacular days. \nEvent Timeline: \n\nFriday (Evening)\, 3 October: Piping A Grade Solos\nSaturday (All Day)\, 4 October: Graded Solos\nSaturday (Evening)\, 4 October: Drumming A Grade Solos\nSunday (All Day)\, 5 October: The Australian Juvenile Championships\n\nKey Points: \n\nContest Promoter: Scots School Albury\n\n\nEntries Close: 5 September 2025\n\nQuick Links: \n\nEvent Tickets: Click Here\nEvent Website: Click Here\n\n 
URL:https://pipebandsaustralia.com.au/event/ajpbc/
LOCATION:The Scots School Albury\, 393 Perry Street\, Albury\, New South Wales\, 2640\, Australia
CATEGORIES:National
ATTACH;FMTTYPE=image/jpeg:https://pipebandsaustralia.com.au/wp-content/uploads/2025/07/AJPBC-scaled.jpg
ORGANIZER;CN="Pipe Bands Australia":MAILTO:events@pipebandsaustralia.com.au
END:VEVENT
BEGIN:VEVENT
DTSTART;TZID=Australia/Sydney:20251005T140000
DTEND;TZID=Australia/Sydney:20251005T160000
DTSTAMP:20260424T195446
CREATED:20250917T012958Z
LAST-MODIFIED:20250917T013028Z
UID:10000111-1759672800-1759680000@pipebandsaustralia.com.au
SUMMARY:Free Workshop - Matt Wilson
DESCRIPTION:We’re excited to announce a special Ensemble & Pipe Band Workshop as part of the Australian Juvenile Band Championships! \nLed by Pipe Major Matt Wilson of the world-famous Field Marshal Montgomery Pipe Band\, this is a rare chance to learn from one of the very best. \n✅ Free admission – open to all pipers and drummers\n✅ Improve your band sound and ensemble performance\n✅ Tips and insights to take back to your own band
URL:https://pipebandsaustralia.com.au/event/free-workshop-matt-wilson/
LOCATION:The Scots School Albury\, 393 Perry Street\, Albury\, New South Wales\, 2640\, Australia
CATEGORIES:National
ATTACH;FMTTYPE=image/png:https://pipebandsaustralia.com.au/wp-content/uploads/2025/09/20-scaled.png
ORGANIZER;CN="Pipe Bands Australia":MAILTO:events@pipebandsaustralia.com.au
END:VEVENT
BEGIN:VEVENT
DTSTART;TZID=Australia/Sydney:20251011T080000
DTEND;TZID=Australia/Sydney:20251011T170000
DTSTAMP:20260424T195446
CREATED:20250414T093636Z
LAST-MODIFIED:20250414T093636Z
UID:10000080-1760169600-1760202000@pipebandsaustralia.com.au
SUMMARY:Canberra Highland Gathering
DESCRIPTION:More information to follow.
URL:https://pipebandsaustralia.com.au/event/canberra-highland-gathering-2/
LOCATION:Kambah Oval\, Kett Street\, Kambah\, Australian Capital Territory\, 2902\, Australia
CATEGORIES:New South Wales
ATTACH;FMTTYPE=image/png:https://pipebandsaustralia.com.au/wp-content/uploads/2025/04/Screenshot-2025-04-14-at-19.35.12.png
ORGANIZER;CN="Pipe Bands New South Wales":MAILTO:nsw@pipebandsaustralia.com.au
END:VEVENT
BEGIN:VEVENT
DTSTART;TZID=Australia/Sydney:20251130T150000
DTEND;TZID=Australia/Sydney:20251130T180000
DTSTAMP:20260424T195446
CREATED:20251019T093106Z
LAST-MODIFIED:20251028T085836Z
UID:10000139-1764514800-1764525600@pipebandsaustralia.com.au
SUMMARY:Pipe Bands QLD - Annual General Meeting & Christmas Party
DESCRIPTION:The Annual General Meeting of Pipe Bands Australia – Queensland Branch \nwill be held at the Coorparoo Bowls Club – 32 Riddings St\, Coorparoo QLD 4151 and via Teams \non \nSunday 30 November 2025 \nat 2:00 pm \n** The AGM will be held in the room upstairs from 2pm – 3pm\, with the Christmas party downstairs immediately following (including nibbles and drinks) **  \nMicrosoft Teams \nJoin the meeting now \nMeeting ID: 432 432 946 117 4 \nPasscode: 4kA7Gk9h \n\n  \nBand Secretaries please ensure that your delegates receive a copy of this notice. You can appoint or change delegates for the meeting by email. \nAgenda \n\n Attendance & Apologies;\n Proxy votes (form attached);\n Minutes of 2024 Annual General Meeting (attached);\n Correspondence relating to the Annual General Meeting;\n Annual Report(s) and business arising;\n Annual Statement of Accounts for the year ending 30 June 2025 and business arising;\n Election of Officers for 2025; and\n Any other business relevant to the Annual General Meeting as permitted by the Chairman.\n\n\nVoting for the host city\, venue and date (if available) for the 2028 Australian Pipe Band Championships\n\nPositions to be filled are as follows: \n\n Chairman\n 2 Vice-Chairmen\n Secretary (note – the current Secretary will not be accepting renewed nomination for the role so we are seeking a new secretary)\n Treasurer\n Education Officer\n Publicity Officer\n Historian\n 2 Queensland Delegates for National Council\n\nThe nomination forms and previous meeting minutes can be found in the Resources tab of the website. Any nominations will need to be returned to the secretary by 16 November 2025. \nProxies must be returned to the Secretary 48 hours prior to the meeting\, and the proxy form is also attached. All members wishing to vote\, nominate or be nominated for a position are reminded to ensure their membership with Pipe Bands Australia is fully financial prior to the relevant cut-off date (14 days for nominations\, 48 hours for proxies). \nApologies\, nominations\, proxy votes or enquiries should be emailed to: qld@pipebandsaustralia.com.au
URL:https://pipebandsaustralia.com.au/event/annual-general-meeting/
LOCATION:New South Wales
CATEGORIES:All,Queensland
ATTACH;FMTTYPE=image/webp:https://pipebandsaustralia.com.au/wp-content/uploads/2025/10/pbq-agm.webp
END:VEVENT
BEGIN:VEVENT
DTSTART;TZID=Australia/Sydney:20260201T090000
DTEND;TZID=Australia/Sydney:20260201T170000
DTSTAMP:20260424T195446
CREATED:20260114T122909Z
LAST-MODIFIED:20260115T041648Z
UID:10000187-1769936400-1769965200@pipebandsaustralia.com.au
SUMMARY:Pipe Band Competition - Launceston
DESCRIPTION:The first band competition in the 2026 Pipe Bands Tasmania calendar. \nThis event will be held in the beautiful setting of Royal Park\, Launceston.Free event to attend. \nBands will take part in competition elements as well as give performance recitals on the day. \nEntry Deadline – Sunday 25th January 2026 \nEntries Now Open
URL:https://pipebandsaustralia.com.au/event/pipe-band-competition-launceston/
LOCATION:Royal Park\, Launceston\, Royal Park\, Launceston\, TAS\, 7250\, Australia
CATEGORIES:All,National,Tasmania
ATTACH;FMTTYPE=image/png:https://pipebandsaustralia.com.au/wp-content/uploads/2026/01/Launceston-Day-Out-010226-3.png
ORGANIZER;CN="Pipe Bands Tasmania":MAILTO:tas@pipebandsaustralia.com.au
END:VEVENT
BEGIN:VEVENT
DTSTART;TZID=Australia/Sydney:20260222T090000
DTEND;TZID=Australia/Sydney:20260222T170000
DTSTAMP:20260424T195446
CREATED:20260115T031003Z
LAST-MODIFIED:20260201T091050Z
UID:10000207-1771750800-1771779600@pipebandsaustralia.com.au
SUMMARY:Scots Day Oot - Tasmania
DESCRIPTION:This day will feature:Highland Dancing CompetitionPipe Band CompetitionRe-enactment & DisplaysFood & Drink VendorsAnd Much More\n\nFree entry for visitors. A great day out for the family.\n\n\nEntry Deadline – Thursday 12th February 2026 \n\nEntries Now Open
URL:https://pipebandsaustralia.com.au/event/scots-day-oot-tasmania/
LOCATION:Village Green\, Longford\, TAS\, Village Green\, Longford\, TAS\, 7301\, Australia
CATEGORIES:National,Tasmania
ATTACH;FMTTYPE=image/png:https://pipebandsaustralia.com.au/wp-content/uploads/2026/01/Longford-PBT-22022026.png
ORGANIZER;CN="Pipe Bands Tasmania":MAILTO:tas@pipebandsaustralia.com.au
END:VEVENT
BEGIN:VEVENT
DTSTART;TZID=Australia/Sydney:20260321T090000
DTEND;TZID=Australia/Sydney:20260321T170000
DTSTAMP:20260424T195446
CREATED:20260115T033438Z
LAST-MODIFIED:20260316T025156Z
UID:10000216-1774083600-1774112400@pipebandsaustralia.com.au
SUMMARY:Oatlands Highland Gathering / Tasmanian Pipe Band Championships
DESCRIPTION:The Tasmanian Pipe Band Championships returns to Oatlands. \nThe Oatlands Highland Gathering is taking place in Oatlands on March 21st 2026.\n\nEntry Deadline – Monday 09th March 2026\nFor more information or to register\, click here  \n\nFeaturing:– Tasmanian Pipe Band Championships– Highland Dancing– Highland Games– Food & DrinkAnd more\n\nFree entry and a great day for the entire family.\n\nRun in association with Callington Mill Distillery and Southern Midlands Council.\n\nFollowing this event\, there is a relaxed social gathering planned for the CoqN’Bull in Launceston.\nFood served until 9pm.\nAll are welcome.\n\nEntries Now Open
URL:https://pipebandsaustralia.com.au/event/oatlands-highland-gathering-tasmanian-pipe-band-championships/
LOCATION:Callington Park\, Oatlands. TAS\, Callington Park\, Oatlands\, TAS\, 7120\, Australia
CATEGORIES:All,National,Tasmania
ATTACH;FMTTYPE=image/png:https://pipebandsaustralia.com.au/wp-content/uploads/2026/01/Oatlands-Highland-Gathering-PBT-210326-4.png
END:VEVENT
BEGIN:VEVENT
DTSTART;VALUE=DATE:20260403
DTEND;VALUE=DATE:20260406
DTSTAMP:20260424T195446
CREATED:20251020T093102Z
LAST-MODIFIED:20251027T045915Z
UID:10000129-1775178000-1775350799@pipebandsaustralia.com.au
SUMMARY:Maclean Highland Gathering
DESCRIPTION:This event is run by the Lower Clarence Scottish Association. The pipe band competition is overseen by Pipe Bands NSW. \nWe include it on our events listing as many South East Queensland bands attend the event each year. \n  \nVisit the event website for dates\, programs\, the competition draw\, and more information.
URL:https://pipebandsaustralia.com.au/event/maclean-highland-gathering-2-2/
LOCATION:Maclean Showgrounds\, 12 Cameron Street\, Maclean\, New South Wales\, 2463\, Australia
CATEGORIES:All,National,Queensland
ATTACH;FMTTYPE=image/webp:https://pipebandsaustralia.com.au/wp-content/uploads/2025/10/mhg.webp
END:VEVENT
BEGIN:VEVENT
DTSTART;VALUE=DATE:20260411
DTEND;VALUE=DATE:20260412
DTSTAMP:20260424T195446
CREATED:20250610T063705Z
LAST-MODIFIED:20250610T063705Z
UID:10000109-1775865600-1775951999@pipebandsaustralia.com.au
SUMMARY:2026 Australian Pipe Band Championships
DESCRIPTION:The 2026 Australian Pipe Band Championships will be held at the Subiaco Oval\, Subiaco Western Australia. More information to follow.
URL:https://pipebandsaustralia.com.au/event/2026-australian-pipe-band-championships/
LOCATION:Subiaco Oval\, 304 Roberts Road\, Subiaco\, Western Australia\, 6008\, Australia
CATEGORIES:National
ATTACH;FMTTYPE=image/jpeg:https://pipebandsaustralia.com.au/wp-content/uploads/2025/06/3-3-scaled.jpg
ORGANIZER;CN="Pipe Bands Australia":MAILTO:events@pipebandsaustralia.com.au
END:VEVENT
BEGIN:VEVENT
DTSTART;VALUE=DATE:20260509
DTEND;VALUE=DATE:20260510
DTSTAMP:20260424T195446
CREATED:20251021T074448Z
LAST-MODIFIED:20260328T013306Z
UID:10000218-1778284800-1778371199@pipebandsaustralia.com.au
SUMMARY:St Andrews Competition
DESCRIPTION:REGISTER YOUR BAND HERE \nRegistrations close 18th Apr 2026. \n\n  \nPlaying Requirements: \n  \nGrade 1: 2 x MSR & 2 x Medley 5 – 7 minutes \nGrade 2: 2 x MSR & 1 x Medley 4 – 6 minutes \nGrade 3: 1 x MSR & 1 Medley 3 – 5 minutes (MSR – each of not less than 4 parts) \nJuvenile: 1 x MSR & 1 Medley 3 – 5 minutes (MSR – each of not less than 4 parts) \nGrade 4A: 1 x MSR (4 parts of 2/4 March (may be 2×2 parts)\, either 2 or 4 parts of Strathspey (may be 2×2 parts) and 2 or 4 parts of Reel (may be 2×2 parts)) and 1 x Medley 3 – 5 minutes \nNovice Juvenile A: 1 x MSR  (4 parts of 2/4 March (may be 2×2 parts)\, either 2 or 4 parts of Strathspey (may be 2×2 parts) and 2 or 4 parts of Reel (may be 2×2 parts)) and 1 x Medley 3 – 5 minutes \nGrade 4B: Selection of Marches (4 x 2-part march music) and 1 x Medley 3 – 5 minutes \nNovice Juvenile B: Selection of Marches (4 x 2-part march music) and 1 x Medley 3 – 5 minutes \n  \nPromoters Events: \n  \nDevelopment Grade Selection of Marches (Any 2 x 2-part march music) \nDevelopment bands will march in to tap and Static start
URL:https://pipebandsaustralia.com.au/event/st-andrews-competition/
LOCATION:South Brisbane District Cricket Club\, 269 Venner Road\, Fairfield\, Queensland\, 4103\, Australia
CATEGORIES:All,Queensland
ATTACH;FMTTYPE=image/webp:https://pipebandsaustralia.com.au/wp-content/uploads/2025/10/BBC_HighlandGathering_20210328_EPX0387_Webshot-e1761032745515.webp
END:VEVENT
BEGIN:VEVENT
DTSTART;VALUE=DATE:20260607
DTEND;VALUE=DATE:20260608
DTSTAMP:20260424T195446
CREATED:20251021T075136Z
LAST-MODIFIED:20260328T013509Z
UID:10000220-1780790400-1780876799@pipebandsaustralia.com.au
SUMMARY:Queensland Pipe Band Championships   |  Queensland Scottish Festival
DESCRIPTION:REGISTER YOUR BAND HERE \nRegistrations close 10th May 2026. \n\n  \nPlaying Requirements: \n  \nGrade 1: 2 x MSR & 2 x Medley 5 – 7 minutes \nGrade 2: 2 x MSR & 1 x Medley 4 – 6 minutes \nGrade 3: 1 x MSR & 1 Medley 3 – 5 minutes (MSR – each of not less than 4 parts) \nJuvenile: 1 x MSR & 1 Medley 3 – 5 minutes (MSR – each of not less than 4 parts) \nGrade 4A: 1 x MSR (4 parts of 2/4 March (may be 2×2 parts)\, either 2 or 4 parts of Strathspey (may be 2×2 parts) and 2 or 4 parts of Reel (may be 2×2 parts)) and 1 x Medley 3 – 5 minutes \nNovice Juvenile A: 1 x MSR  (4 parts of 2/4 March (may be 2×2 parts)\, either 2 or 4 parts of Strathspey (may be 2×2 parts) and 2 or 4 parts of Reel (may be 2×2 parts)) and 1 x Medley 3 – 5 minutes \nGrade 4B: Selection of Marches (4 x 2-part march music) and 1 x Medley 3 – 5 minutes \nNovice Juvenile B: Selection of Marches (4 x 2-part march music) and 1 x Medley 3 – 5 minutes \n  \nPromoters Events: \n  \nDevelopment Grade Selection of Marches (Any 2 x 2-part march music) \nDevelopment bands will march in to tap and Static start
URL:https://pipebandsaustralia.com.au/event/queensland-pipe-band-championships/
LOCATION:Brisbane Boys’ College\, Kensington Terrace\, Toowong\, Queensland\, 4066\, Australia
CATEGORIES:All,Queensland
ATTACH;FMTTYPE=image/webp:https://pipebandsaustralia.com.au/wp-content/uploads/2025/10/BBC_HighlandGathering_20210328_EPX0165_Webshot.webp
END:VEVENT
BEGIN:VEVENT
DTSTART;VALUE=DATE:20260627
DTEND;VALUE=DATE:20260628
DTSTAMP:20260424T195446
CREATED:20251021T075639Z
LAST-MODIFIED:20260328T013516Z
UID:10000222-1782518400-1782604799@pipebandsaustralia.com.au
SUMMARY:Ipswich Competition
DESCRIPTION:REGISTER YOUR BAND HERE \nRegistrations close 6th Jun 2026. \n\n  \nPlaying Requirements: \n  \nGrade 1: 2 x MSR & 2 x Medley 5 – 7 minutes \nGrade 2: 2 x MSR & 1 x Medley 4 – 6 minutes \nGrade 3: 1 x MSR & 1 Medley 3 – 5 minutes (MSR – each of not less than 4 parts) \nJuvenile: 1 x MSR & 1 Medley 3 – 5 minutes (MSR – each of not less than 4 parts) \nGrade 4A: 1 x MSR (4 parts of 2/4 March (may be 2×2 parts)\, either 2 or 4 parts of Strathspey (may be 2×2 parts) and 2 or 4 parts of Reel (may be 2×2 parts)) and 1 x Medley 3 – 5 minutes \nNovice Juvenile A: 1 x MSR  (4 parts of 2/4 March (may be 2×2 parts)\, either 2 or 4 parts of Strathspey (may be 2×2 parts) and 2 or 4 parts of Reel (may be 2×2 parts)) and 1 x Medley 3 – 5 minutes \nGrade 4B: Selection of Marches (4 x 2-part march music) and 1 x Medley 3 – 5 minutes \nNovice Juvenile B: Selection of Marches (4 x 2-part march music) and 1 x Medley 3 – 5 minutes \n  \nPromoters Events: \n  \nDevelopment Grade Selection of Marches (Any 2 x 2-part march music) \nDevelopment bands will march in to tap and Static start
URL:https://pipebandsaustralia.com.au/event/ipswich-competition/
LOCATION:Ipswich Showground\, 81 Warwick Road\, Ipswich\, QLD\, 4305
CATEGORIES:All,Queensland
ATTACH;FMTTYPE=image/webp:https://pipebandsaustralia.com.au/wp-content/uploads/2025/10/ipswich.webp
END:VEVENT
BEGIN:VEVENT
DTSTART;TZID=Australia/Sydney:20260709T160000
DTEND;TZID=Australia/Sydney:20260712T140000
DTSTAMP:20260424T195446
CREATED:20260420T114156Z
LAST-MODIFIED:20260420T114733Z
UID:10000225-1783612800-1783864800@pipebandsaustralia.com.au
SUMMARY:Winter Piping & Drumming Retreat
DESCRIPTION:The Pipe Bands Australia Winter Piping & Drumming Retreat returns in 2026\, bringing together pipers and drummers from across the country for an immersive four-day program of learning\, collaboration\, and performance. \nDesigned to support players at every stage of their development\, the retreat offers expert tuition across piping\, snare\, tenor\, and bass drumming. From foundational technique through to advanced musical refinement\, participants will engage in a structured and supportive environment focused on real improvement. \nMore than a series of workshops\, the retreat provides an opportunity to step away from routine band activity and focus on individual and ensemble growth—while building connections within the broader pipe band community.
URL:https://pipebandsaustralia.com.au/event/winter-piping-drumming-retreat-2/
LOCATION:Knox Gramar School\, 2 Borambil Street\, Wahroonga\, New South Wales\, 2076\, Australia
CATEGORIES:Victoria,Western Australia,New South Wales,Queensland,South Australia,Tasmania
ATTACH;FMTTYPE=image/png:https://pipebandsaustralia.com.au/wp-content/uploads/2026/04/2-2-scaled.png
ORGANIZER;CN="Pipe Bands Australia":MAILTO:events@pipebandsaustralia.com.au
END:VEVENT
BEGIN:VEVENT
DTSTART;VALUE=DATE:20260711
DTEND;VALUE=DATE:20260712
DTSTAMP:20260424T195446
CREATED:20251021T080210Z
LAST-MODIFIED:20251027T045648Z
UID:10000114-1783728000-1783814399@pipebandsaustralia.com.au
SUMMARY:Mackay Bluewater Fling
DESCRIPTION:More information to come.
URL:https://pipebandsaustralia.com.au/event/mackay-bluewater-fling/
LOCATION:Mackay
CATEGORIES:All,National,Queensland
ATTACH;FMTTYPE=image/webp:https://pipebandsaustralia.com.au/wp-content/uploads/2025/10/bluewater-fling-1.webp
END:VEVENT
END:VCALENDAR