BEGIN:VCALENDAR
VERSION:2.0
PRODID:-//Pipe Bands Australia - ECPv6.15.20//NONSGML v1.0//EN
CALSCALE:GREGORIAN
METHOD:PUBLISH
X-ORIGINAL-URL:https://pipebandsaustralia.com.au
X-WR-CALDESC:Events for Pipe Bands Australia
REFRESH-INTERVAL;VALUE=DURATION:PT1H
X-Robots-Tag:noindex
X-PUBLISHED-TTL:PT1H
BEGIN:VTIMEZONE
TZID:Australia/Sydney
BEGIN:STANDARD
TZOFFSETFROM:+1100
TZOFFSETTO:+1000
TZNAME:AEST
DTSTART:20240406T160000
END:STANDARD
BEGIN:DAYLIGHT
TZOFFSETFROM:+1000
TZOFFSETTO:+1100
TZNAME:AEDT
DTSTART:20241005T160000
END:DAYLIGHT
BEGIN:STANDARD
TZOFFSETFROM:+1100
TZOFFSETTO:+1000
TZNAME:AEST
DTSTART:20250405T160000
END:STANDARD
BEGIN:DAYLIGHT
TZOFFSETFROM:+1000
TZOFFSETTO:+1100
TZNAME:AEDT
DTSTART:20251004T160000
END:DAYLIGHT
BEGIN:STANDARD
TZOFFSETFROM:+1100
TZOFFSETTO:+1000
TZNAME:AEST
DTSTART:20260404T160000
END:STANDARD
BEGIN:DAYLIGHT
TZOFFSETFROM:+1000
TZOFFSETTO:+1100
TZNAME:AEDT
DTSTART:20261003T160000
END:DAYLIGHT
END:VTIMEZONE
BEGIN:VEVENT
DTSTART;TZID=Australia/Sydney:20250705T090000
DTEND;TZID=Australia/Sydney:20250705T153000
DTSTAMP:20260424T082135
CREATED:20250414T091026Z
LAST-MODIFIED:20250414T091026Z
UID:10000060-1751706000-1751729400@pipebandsaustralia.com.au
SUMMARY:Aberdeen Highland Games
DESCRIPTION:We are all looking forward with great anticipation to Saturday 5th July 2025 for the next gathering at Aberdeen. \nCome and participate in what may be deemed to be a traditional Highland Gathering here at Aberdeen in the glorious Hunter Valley of New South Wales. Savour the atmosphere of the Highlands and be part of this well recognised event.
URL:https://pipebandsaustralia.com.au/event/aberdeen-highland-games/
LOCATION:Jefferson Park\, New England Highway\, Aberdeen\, New South Wales\, 2336\, Australia
CATEGORIES:New South Wales
ATTACH;FMTTYPE=image/jpeg:https://pipebandsaustralia.com.au/wp-content/uploads/2023/11/maxresdefault.jpg
ORGANIZER;CN="Aberdeen Highland Games":MAILTO:inquiries@aberdeenhighlandgames.com
END:VEVENT
BEGIN:VEVENT
DTSTART;VALUE=DATE:20250711
DTEND;VALUE=DATE:20250714
DTSTAMP:20260424T082135
CREATED:20250308T074732Z
LAST-MODIFIED:20250517T063955Z
UID:10000004-1752192000-1752451199@pipebandsaustralia.com.au
SUMMARY:Winter Piping & Drumming Retreat
DESCRIPTION:The Pipe Bands Australia Summer School series returns in 2025 with the inaugural ‘Winter Piping and Drumming Retreat’; Showcasing Piping\, Snare\, Tenor and Bass Drumming Tuition and workshops suitable for all ages and abilities from Novice to A grade. \nNot only does this represent a fantastic opportunity to make friends and new connections within the Pipe Band fraternity the retreat will include: \n\nTuning and ongoing management of instruments\nMusical theory\, playing technique and score construction\nRudimental execution and control\nThe sometimes dreaded ‘Piobairachd’\nStrategies for better solo playing including the minimisation of risk from a musical perspective\nEnsemble management across drum and piping corps\nAn introduction to new music\nAs well as an assortment of performances including an opening recital from the tutors and a closing concert from students.\n\nKey Points: \n\n11 to 13 July 2025\nKnox Grammar School\, New South Wales\nAll ages event suitable for players performing at a Novice level through to A grade (10 years an up)\nEntries Close 5:00pm 13 June 2025
URL:https://pipebandsaustralia.com.au/event/winter-piping-drumming-retreat/
LOCATION:Knox Gramar School\, 2 Borambil Street\, Wahroonga\, New South Wales\, 2076\, Australia
CATEGORIES:All,National
ATTACH;FMTTYPE=image/jpeg:https://pipebandsaustralia.com.au/wp-content/uploads/2025/03/1-1-TEC-scaled.jpg
ORGANIZER;CN="Pipe Bands Australia":MAILTO:events@pipebandsaustralia.com.au
END:VEVENT
BEGIN:VEVENT
DTSTART;TZID=Australia/Sydney:20250713T093000
DTEND;TZID=Australia/Sydney:20250713T123000
DTSTAMP:20260424T082135
CREATED:20250517T013752Z
LAST-MODIFIED:20250517T014426Z
UID:10000090-1752399000-1752409800@pipebandsaustralia.com.au
SUMMARY:Band Leadership Workshop
DESCRIPTION:Pipe Bands Australia invites all Band Leaders to attend a specialised Pipe Band Workshop at Knox College\, held as part of the Winter Retreat. \nThis workshop is designed to support bands in three key areas of performance. It will also provide comprehensive guidance on contest and performance preparation\, as well as strategies for effective risk management. \nRegister Now \nKey Points \n\nFree for Pipe Bands Australia Members\n13 July 2025\nKnox Gramma School\, New South Wales\nOpen to Band persons who hold the positions of:\n\nPipe/ Drum Major\nPipe/ Drum Sergeant\nPipe/ Drum Corporal\nBand Tutor\n\n\n\nEnquiries\n \nCan be sent to Pipe Bands Australia  c/- events@pipebandsaustralia.com.au
URL:https://pipebandsaustralia.com.au/event/band-leadership-workshop/
LOCATION:New South Wales
CATEGORIES:National
ATTACH;FMTTYPE=image/png:https://pipebandsaustralia.com.au/wp-content/uploads/2025/05/Band-Leadership-Workshop-scaled.png
ORGANIZER;CN="Pipe Bands Australia":MAILTO:events@pipebandsaustralia.com.au
END:VEVENT
END:VCALENDAR