BEGIN:VCALENDAR
VERSION:2.0
PRODID:-//Pipe Bands Australia - ECPv6.15.20//NONSGML v1.0//EN
CALSCALE:GREGORIAN
METHOD:PUBLISH
X-ORIGINAL-URL:https://pipebandsaustralia.com.au
X-WR-CALDESC:Events for Pipe Bands Australia
REFRESH-INTERVAL;VALUE=DURATION:PT1H
X-Robots-Tag:noindex
X-PUBLISHED-TTL:PT1H
BEGIN:VTIMEZONE
TZID:Australia/Sydney
BEGIN:STANDARD
TZOFFSETFROM:+1100
TZOFFSETTO:+1000
TZNAME:AEST
DTSTART:20240406T160000
END:STANDARD
BEGIN:DAYLIGHT
TZOFFSETFROM:+1000
TZOFFSETTO:+1100
TZNAME:AEDT
DTSTART:20241005T160000
END:DAYLIGHT
BEGIN:STANDARD
TZOFFSETFROM:+1100
TZOFFSETTO:+1000
TZNAME:AEST
DTSTART:20250405T160000
END:STANDARD
BEGIN:DAYLIGHT
TZOFFSETFROM:+1000
TZOFFSETTO:+1100
TZNAME:AEDT
DTSTART:20251004T160000
END:DAYLIGHT
BEGIN:STANDARD
TZOFFSETFROM:+1100
TZOFFSETTO:+1000
TZNAME:AEST
DTSTART:20260404T160000
END:STANDARD
BEGIN:DAYLIGHT
TZOFFSETFROM:+1000
TZOFFSETTO:+1100
TZNAME:AEDT
DTSTART:20261003T160000
END:DAYLIGHT
END:VTIMEZONE
BEGIN:VEVENT
DTSTART;TZID=Australia/Sydney:20250510T100000
DTEND;TZID=Australia/Sydney:20250510T170000
DTSTAMP:20260424T114945
CREATED:20250412T043729Z
LAST-MODIFIED:20250412T043740Z
UID:10000027-1746871200-1746896400@pipebandsaustralia.com.au
SUMMARY:St Andrews Gathering
DESCRIPTION:Register you banks here: Click here to Register \nDrum Majors Register Here: Click here to Register
URL:https://pipebandsaustralia.com.au/event/1014/
LOCATION:South Brisbane District Cricket Club\, 269 Venner Road\, Fairfield\, Queensland\, 4103\, Australia
CATEGORIES:Queensland
ATTACH;FMTTYPE=image/jpeg:https://pipebandsaustralia.com.au/wp-content/uploads/2025/04/BBC_HighlandGathering_20210328_EPX0387_Webshot.jpg
ORGANIZER;CN="Pipe Bands Queensland":MAILTO:qld@pipebandsaustralia.com.au
END:VEVENT
BEGIN:VEVENT
DTSTART;TZID=Australia/Sydney:20250517T103000
DTEND;TZID=Australia/Sydney:20250517T170000
DTSTAMP:20260424T114945
CREATED:20250308T092125Z
LAST-MODIFIED:20250518T044859Z
UID:10000093-1747477800-1747501200@pipebandsaustralia.com.au
SUMMARY:Victorian Pipe Band Championships
DESCRIPTION:A chilly day\, but a wonderful contest in all six grades. Thank you to bands and to the Maryborough Highland Society.
URL:https://pipebandsaustralia.com.au/event/vpbc25/
LOCATION:Princes Park – Maryborough\, 8 Lake Road\, Maryborough\, Victoria\, 3465\, Australia
CATEGORIES:Victoria
ATTACH;FMTTYPE=image/jpeg:https://pipebandsaustralia.com.au/wp-content/uploads/2025/03/Competition.jpg
ORGANIZER;CN="Pipe Bands Victoria":MAILTO:vic@pipebandsaustralia.com.au
END:VEVENT
BEGIN:VEVENT
DTSTART;TZID=Australia/Sydney:20250529T193000
DTEND;TZID=Australia/Sydney:20250529T203000
DTSTAMP:20260424T114945
CREATED:20250413T115913Z
LAST-MODIFIED:20250413T115913Z
UID:10000050-1748547000-1748550600@pipebandsaustralia.com.au
SUMMARY:NSW Pipers Society Meeting
DESCRIPTION:The Society meets\, 4th Thursday of each month at the City of Blacktown Pipe Band Hall\, from 7.30
URL:https://pipebandsaustralia.com.au/event/nsw-pipers-society-meeting/
LOCATION:Blacktown City Pipe Band Hall\, Richmond Road\, Blacktown\, New South Wales\, 2148\, Australia
CATEGORIES:New South Wales
ATTACH;FMTTYPE=image/png:https://pipebandsaustralia.com.au/wp-content/uploads/2025/04/Pipers-Society.png
END:VEVENT
BEGIN:VEVENT
DTSTART;TZID=Australia/Sydney:20250531T120000
DTEND;TZID=Australia/Sydney:20250531T170000
DTSTAMP:20260424T114945
CREATED:20250412T044018Z
LAST-MODIFIED:20250412T044040Z
UID:10000032-1748692800-1748710800@pipebandsaustralia.com.au
SUMMARY:Ipswich Competition
DESCRIPTION:Register your band here: Click here to Register \nDrum Majors Register here: Click here to Register
URL:https://pipebandsaustralia.com.au/event/1020/
LOCATION:Ipswich Showhgrounds\, Ipswich\, Queensland\, 4305\, Australia
CATEGORIES:Queensland
ATTACH;FMTTYPE=image/jpeg:https://pipebandsaustralia.com.au/wp-content/uploads/2025/04/BBC_HighlandGathering_20210328_EPX0267_Webshot.jpg
ORGANIZER;CN="Pipe Bands Queensland":MAILTO:qld@pipebandsaustralia.com.au
END:VEVENT
END:VCALENDAR