BEGIN:VCALENDAR
VERSION:2.0
PRODID:-//Pipe Bands Australia - ECPv6.15.20//NONSGML v1.0//EN
CALSCALE:GREGORIAN
METHOD:PUBLISH
X-ORIGINAL-URL:https://pipebandsaustralia.com.au
X-WR-CALDESC:Events for Pipe Bands Australia
REFRESH-INTERVAL;VALUE=DURATION:PT1H
X-Robots-Tag:noindex
X-PUBLISHED-TTL:PT1H
BEGIN:VTIMEZONE
TZID:Australia/Sydney
BEGIN:STANDARD
TZOFFSETFROM:+1100
TZOFFSETTO:+1000
TZNAME:AEST
DTSTART:20240406T160000
END:STANDARD
BEGIN:DAYLIGHT
TZOFFSETFROM:+1000
TZOFFSETTO:+1100
TZNAME:AEDT
DTSTART:20241005T160000
END:DAYLIGHT
BEGIN:STANDARD
TZOFFSETFROM:+1100
TZOFFSETTO:+1000
TZNAME:AEST
DTSTART:20250405T160000
END:STANDARD
BEGIN:DAYLIGHT
TZOFFSETFROM:+1000
TZOFFSETTO:+1100
TZNAME:AEDT
DTSTART:20251004T160000
END:DAYLIGHT
BEGIN:STANDARD
TZOFFSETFROM:+1100
TZOFFSETTO:+1000
TZNAME:AEST
DTSTART:20260404T160000
END:STANDARD
BEGIN:DAYLIGHT
TZOFFSETFROM:+1000
TZOFFSETTO:+1100
TZNAME:AEDT
DTSTART:20261003T160000
END:DAYLIGHT
END:VTIMEZONE
BEGIN:VEVENT
DTSTART;TZID=Australia/Sydney:20250412T150000
DTEND;TZID=Australia/Sydney:20250412T180000
DTSTAMP:20260424T132754
CREATED:20250412T044759Z
LAST-MODIFIED:20250412T044914Z
UID:10000040-1744470000-1744480800@pipebandsaustralia.com.au
SUMMARY:Pipe Majors McNeill Invitational Competition
DESCRIPTION:
URL:https://pipebandsaustralia.com.au/event/pipe-majors-mcneill-invitational-competition/
LOCATION:St Paul’s Presbyterian Church\, 43 St Pauls Terrace\, Spring Hill\, Queensland\, 4000\, Australia
CATEGORIES:Queensland
ATTACH;FMTTYPE=image/jpeg:https://pipebandsaustralia.com.au/wp-content/uploads/2025/04/CompFlyerv4Finalflyerforsavethedate.jpg
ORGANIZER;CN="Pipe Bands Queensland":MAILTO:qld@pipebandsaustralia.com.au
END:VEVENT
BEGIN:VEVENT
DTSTART;VALUE=DATE:20250418
DTEND;VALUE=DATE:20250420
DTSTAMP:20260424T132754
CREATED:20250413T114329Z
LAST-MODIFIED:20250413T114342Z
UID:10000046-1744934400-1745107199@pipebandsaustralia.com.au
SUMMARY:Maclean Highland Gathering
DESCRIPTION:The 2025 Maclean Highland gathering is a multi day event and includes Solos and full band contests. More information can be found at the organisers website.
URL:https://pipebandsaustralia.com.au/event/maclean-highland-gathering-2/
LOCATION:Maclean Showground\, 12 Cameron Street\, Maclean\, New South Wales\, 2463\, Australia
CATEGORIES:New South Wales
ATTACH;FMTTYPE=image/jpeg:https://pipebandsaustralia.com.au/wp-content/uploads/2025/04/organiser-logo.jpg
ORGANIZER;CN="Maclean Highland Gathering":MAILTO:secretary@macleanhighlandgathering.com.au
END:VEVENT
BEGIN:VEVENT
DTSTART;TZID=Australia/Sydney:20250419T080000
DTEND;TZID=Australia/Sydney:20250419T080000
DTSTAMP:20260424T132754
CREATED:20250412T042702Z
LAST-MODIFIED:20250412T043201Z
UID:10000022-1745049600-1745049600@pipebandsaustralia.com.au
SUMMARY:Maclean Highland Gathering
DESCRIPTION:This event is run by the Lower Clarence Scottish Association. The pipe band competition is overseen by Pipe Bands NSW. \nWe include it on our events listing as many South East Queensland bands attend the event each year.
URL:https://pipebandsaustralia.com.au/event/maclean-highland-gathering/
LOCATION:Maclean Showgrounds\, 12 Cameron Street\, Maclean\, New South Wales\, 2463\, Australia
CATEGORIES:Queensland
ATTACH;FMTTYPE=image/jpeg:https://pipebandsaustralia.com.au/wp-content/uploads/2025/04/Maclean-Highland-Gathering.jpg
ORGANIZER;CN="Maclean Highland Gathering":MAILTO:secretary@macleanhighlandgathering.com.au
END:VEVENT
BEGIN:VEVENT
DTSTART;VALUE=DATE:20250425
DTEND;VALUE=DATE:20250426
DTSTAMP:20260424T132754
CREATED:20250413T113748Z
LAST-MODIFIED:20250413T113748Z
UID:10000041-1745539200-1745625599@pipebandsaustralia.com.au
SUMMARY:ANZAC Day 2025
DESCRIPTION:Anzac Day is our national day or commemoration and on Friday 25 April Australian’s will mark the 110th anniversary of the Gallipoli landings as well as commemorating all Australians who have served in times of peace and war. \nPipers\, Drummers and Bands from across Australia will once again lend themselves in support of commemorations across Australia.
URL:https://pipebandsaustralia.com.au/event/anzac-day-2025/
LOCATION:Nationwide\, Australia
CATEGORIES:National
ATTACH;FMTTYPE=image/jpeg:https://pipebandsaustralia.com.au/wp-content/uploads/2025/04/licensed-image.jpg
ORGANIZER;CN="Pipe Bands Australia":MAILTO:events@pipebandsaustralia.com.au
END:VEVENT
END:VCALENDAR